BEGIN:VCALENDAR
VERSION:2.0
PRODID:-//Salve Maria - ECPv6.15.20//NONSGML v1.0//EN
CALSCALE:GREGORIAN
METHOD:PUBLISH
X-ORIGINAL-URL:https://salvemaria.com.br
X-WR-CALDESC:Eventos para Salve Maria
REFRESH-INTERVAL;VALUE=DURATION:PT1H
X-Robots-Tag:noindex
X-PUBLISHED-TTL:PT1H
BEGIN:VTIMEZONE
TZID:America/Manaus
BEGIN:STANDARD
TZOFFSETFROM:-0400
TZOFFSETTO:-0400
TZNAME:-04
DTSTART:20160101T000000
END:STANDARD
END:VTIMEZONE
BEGIN:VEVENT
DTSTART;TZID=America/Manaus:20171228T190000
DTEND;TZID=America/Manaus:20171228T190000
DTSTAMP:20260419T133808
CREATED:20171219T214734Z
LAST-MODIFIED:20171228T153409Z
UID:1238-1514487600-1514487600@salvemaria.com.br
SUMMARY:Missa dos Santos Inocentes – Capela N. Sra. Loreto
DESCRIPTION:Missa dos Santos Inocentes\, mártires \n2ª classe \nMissa Rezada
URL:https://salvemaria.com.br/evento/missa-dos-santos-inocentes-capela-n-sra-loreto/
LOCATION:Capela Nossa Senhora de Loreto\, Rua Juruá 2000\, S. Lázaro\, Manaus\, Amazonas\, 69074-260\, Brasil
CATEGORIES:Missa Tridentina em Manaus
END:VEVENT
BEGIN:VEVENT
DTSTART;TZID=America/Manaus:20171227T190000
DTEND;TZID=America/Manaus:20171227T190000
DTSTAMP:20260419T133808
CREATED:20171219T214532Z
LAST-MODIFIED:20171226T182336Z
UID:1230-1514401200-1514401200@salvemaria.com.br
SUMMARY:Missa de S. João Evangelista\, seguida de aula – Retiro Sant'Ana
DESCRIPTION:Missa de São João\, apóstolo e evangelista \n2ª classe \nMissa Rezada \n  \nApós a Missa\, haverá aula
URL:https://salvemaria.com.br/evento/missa-de-s-joao-evangelista-capela-n-sra-loreto/
LOCATION:Retiro Sant’Ana\, Av. André Araújo\, n° 25\, Aleixo\, Manaus\, Amazonas\, 69060-000\, Brasil
CATEGORIES:Missa Tridentina em Manaus
END:VEVENT
BEGIN:VEVENT
DTSTART;TZID=America/Manaus:20171226T190000
DTEND;TZID=America/Manaus:20171226T190000
DTSTAMP:20260419T133808
CREATED:20171219T214250Z
LAST-MODIFIED:20171221T040319Z
UID:1231-1514314800-1514314800@salvemaria.com.br
SUMMARY:Missa de S. Estevão\, seguido de aula – Retiro Sant'Ana
DESCRIPTION:Missa de Santo Estevão\, proto-mártir \n2ª classe \nMissa Cantada
URL:https://salvemaria.com.br/evento/missa-de-s-estevao-retiro-santana/
LOCATION:Retiro Sant’Ana\, Av. André Araújo\, n° 25\, Aleixo\, Manaus\, Amazonas\, 69060-000\, Brasil
CATEGORIES:Missa Tridentina em Manaus
END:VEVENT
BEGIN:VEVENT
DTSTART;TZID=America/Manaus:20171225T180000
DTEND;TZID=America/Manaus:20171225T180000
DTSTAMP:20260419T133808
CREATED:20171219T214044Z
LAST-MODIFIED:20171221T143803Z
UID:1228-1514224800-1514224800@salvemaria.com.br
SUMMARY:Missa do Natal – Retiro Sant'Ana
DESCRIPTION:Missa do Natal do Senhor – Missa do Dia \n1ª classe \nMissa Cantada
URL:https://salvemaria.com.br/evento/missa-do-natal-capela-n-sra-do-loreto/
LOCATION:Retiro Sant’Ana\, Av. André Araújo\, n° 25\, Aleixo\, Manaus\, Amazonas\, 69060-000\, Brasil
CATEGORIES:Missa Tridentina em Manaus
END:VEVENT
BEGIN:VEVENT
DTSTART;TZID=America/Manaus:20171225T170000
DTEND;TZID=America/Manaus:20171225T170000
DTSTAMP:20260419T133808
CREATED:20171221T194418Z
LAST-MODIFIED:20171221T194418Z
UID:1355-1514221200-1514221200@salvemaria.com.br
SUMMARY:Ofício de Vésperas com Benção do Santíssimo Sacramento
DESCRIPTION:
URL:https://salvemaria.com.br/evento/oficio-de-vesperas-com-bencao-do-santissimo-sacramento/
LOCATION:Retiro Sant’Ana\, Av. André Araújo\, n° 25\, Aleixo\, Manaus\, Amazonas\, 69060-000\, Brasil
CATEGORIES:Missa Tridentina em Manaus,Ofício Divino
END:VEVENT
BEGIN:VEVENT
DTSTART;TZID=America/Manaus:20171225T070000
DTEND;TZID=America/Manaus:20171225T070000
DTSTAMP:20260419T133808
CREATED:20171219T213940Z
LAST-MODIFIED:20171219T214342Z
UID:1213-1514185200-1514185200@salvemaria.com.br
SUMMARY:Missa da Aurora (Missa do Natal) – Retiro Sant'Ana
DESCRIPTION:Missa do Natal do Senhor – Aurora \n1ª classe \nMissa Rezada
URL:https://salvemaria.com.br/evento/missa-da-aurora-missa-do-natal-capela-n-sra-do-loreto/
LOCATION:Retiro Sant’Ana\, Av. André Araújo\, n° 25\, Aleixo\, Manaus\, Amazonas\, 69060-000\, Brasil
CATEGORIES:Missa Tridentina em Manaus
END:VEVENT
BEGIN:VEVENT
DTSTART;TZID=America/Manaus:20171224T230000
DTEND;TZID=America/Manaus:20171224T230000
DTSTAMP:20260419T133808
CREATED:20171221T144416Z
LAST-MODIFIED:20171221T144617Z
UID:1329-1514156400-1514156400@salvemaria.com.br
SUMMARY:Ofício das Matinas de Natal
DESCRIPTION:
URL:https://salvemaria.com.br/evento/oficio-das-matinas-de-natal/
LOCATION:Capela Nossa Senhora de Loreto\, Rua Juruá 2000\, S. Lázaro\, Manaus\, Amazonas\, 69074-260\, Brasil
CATEGORIES:Missa Tridentina em Manaus,Ofício Divino
END:VEVENT
BEGIN:VEVENT
DTSTART;TZID=America/Manaus:20171224T210000
DTEND;TZID=America/Manaus:20171224T210000
DTSTAMP:20260419T133808
CREATED:20171219T213802Z
LAST-MODIFIED:20171219T213843Z
UID:1211-1514149200-1514149200@salvemaria.com.br
SUMMARY:Missa do Galo (Missa da Noite do Natal) – Capela N. Sra do Loreto
DESCRIPTION:Missa do Natal do Senhor – Noite \n1ª classe \nMissa Cantada
URL:https://salvemaria.com.br/evento/missa-do-galo-natal-missa-da-noite-capela-n-sra-do-loreto/
LOCATION:Capela Nossa Senhora de Loreto\, Rua Juruá 2000\, S. Lázaro\, Manaus\, Amazonas\, 69074-260\, Brasil
CATEGORIES:Missa Tridentina em Manaus
END:VEVENT
BEGIN:VEVENT
DTSTART;TZID=America/Manaus:20171224T173000
DTEND;TZID=America/Manaus:20171224T173000
DTSTAMP:20260419T133808
CREATED:20171221T143633Z
LAST-MODIFIED:20171221T193757Z
UID:1327-1514136600-1514136600@salvemaria.com.br
SUMMARY:Ofício de Vésperas com Benção do Santíssimo Sacramento
DESCRIPTION:
URL:https://salvemaria.com.br/evento/oficio-das-vesperas-com-bencao-do-santissimo-sacramento/
LOCATION:Retiro Sant’Ana\, Av. André Araújo\, n° 25\, Aleixo\, Manaus\, Amazonas\, 69060-000\, Brasil
CATEGORIES:Missa Tridentina em Manaus,Ofício Divino
END:VEVENT
BEGIN:VEVENT
DTSTART;TZID=America/Manaus:20171224T100000
DTEND;TZID=America/Manaus:20171224T100000
DTSTAMP:20260419T133808
CREATED:20171219T213017Z
LAST-MODIFIED:20171219T213545Z
UID:1212-1514109600-1514109600@salvemaria.com.br
SUMMARY:Missa da Vigília do Natal – Igreja N. Sra. dos Remédios
DESCRIPTION:Missa da Vigília do Natal \n1ª classe \nMissa Cantada
URL:https://salvemaria.com.br/evento/missa-tridentina-em-manaus-dom-24-12-igreja-n-sra-dos-remedios/
LOCATION:Paróquia N. Sra. dos Remédios\, Rua Leovegildo Coêlho\, 237 - Centro\, Manaus\, Amazonas\, 69005-090\, Brasil
CATEGORIES:Missa Tridentina em Manaus
END:VEVENT
BEGIN:VEVENT
DTSTART;TZID=America/Manaus:20171223T180000
DTEND;TZID=America/Manaus:20171223T180000
DTSTAMP:20260419T133808
CREATED:20171219T212602Z
LAST-MODIFIED:20171221T193704Z
UID:1210-1514052000-1514052000@salvemaria.com.br
SUMMARY:Missa do sábado das Têmporas do Advento – Capela N. Sra. Loreto
DESCRIPTION:Missa da Sábado das têmporas de Dezembro \n2ª classe \nMissa Rezada \n  \nConfissões 30 minutos antes da Missa
URL:https://salvemaria.com.br/evento/missa-tridentina-em-manaus-sab-23-12-capela-n-sra-loreto/
LOCATION:Capela Nossa Senhora de Loreto\, Rua Juruá 2000\, S. Lázaro\, Manaus\, Amazonas\, 69074-260\, Brasil
CATEGORIES:Missa Tridentina em Manaus
END:VEVENT
BEGIN:VEVENT
DTSTART;TZID=America/Manaus:20171222T193000
DTEND;TZID=America/Manaus:20171222T193000
DTSTAMP:20260419T133808
CREATED:20171201T043250Z
LAST-MODIFIED:20171221T035210Z
UID:1188-1513971000-1513971000@salvemaria.com.br
SUMMARY:Missa da sexta-feira das Têmporas – Capela N. Sra. Loreto
DESCRIPTION:Missa da Sexta-feira das Têmporas de Dezembro \n1ª classe \nMissa Rezada \n  \nConfissões a partir das 18h (1h30 antes da Missa) \n 
URL:https://salvemaria.com.br/evento/missa-tridentina-em-manaus-seguida-de-palestra-sex-22-12-retiro-santana/
LOCATION:Capela Nossa Senhora de Loreto\, Rua Juruá 2000\, S. Lázaro\, Manaus\, Amazonas\, 69074-260\, Brasil
CATEGORIES:Missa Tridentina em Manaus
END:VEVENT
BEGIN:VEVENT
DTSTART;TZID=America/Manaus:20171217T103000
DTEND;TZID=America/Manaus:20171217T103000
DTSTAMP:20260419T133808
CREATED:20171201T043037Z
LAST-MODIFIED:20171201T043209Z
UID:1186-1513506600-1513506600@salvemaria.com.br
SUMMARY:Missa Tridentina em Manaus (dom\, 17/12) – Capela N. Sra. de Loreto
DESCRIPTION:Missa do 3º Domingo do Advento \n1ª classe \nMissa Rezada
URL:https://salvemaria.com.br/evento/missa-tridentina-em-manaus-dom-17-12-capela-n-sra-de-loreto/
LOCATION:Capela Nossa Senhora de Loreto\, Rua Juruá 2000\, S. Lázaro\, Manaus\, Amazonas\, 69074-260\, Brasil
CATEGORIES:Missa Tridentina em Manaus
END:VEVENT
BEGIN:VEVENT
DTSTART;TZID=America/Manaus:20171210T170000
DTEND;TZID=America/Manaus:20171210T183000
DTSTAMP:20260419T133808
CREATED:20171103T170219Z
LAST-MODIFIED:20180101T211652Z
UID:1035-1512925200-1512930600@salvemaria.com.br
SUMMARY:A Virgem de Guadalupe: A Imperatriz das Américas
DESCRIPTION:
URL:https://salvemaria.com.br/evento/virgem-de-guadalupe-imperatriz-das-americas/
LOCATION:Sede da Congregação Mariana\, Av. Djalma Batista\, n° 539\, apto 101\, Manaus\, Amazonas\, Brasil
CATEGORIES:Reunião
ATTACH;FMTTYPE=image/jpeg:https://salvemaria.com.br/wp-content/uploads/2017/12/nsraguad.jpeg
END:VEVENT
BEGIN:VEVENT
DTSTART;TZID=America/Manaus:20171210T103000
DTEND;TZID=America/Manaus:20171210T103000
DTSTAMP:20260419T133808
CREATED:20171201T042959Z
LAST-MODIFIED:20171209T194608Z
UID:1184-1512901800-1512901800@salvemaria.com.br
SUMMARY:Missa Tridentina em Manaus (dom\, 10/12) – Capela N. Sra. de Loreto
DESCRIPTION:Missa do 2º Domingo do Advento \n1ª Classe \nMissa Rezada
URL:https://salvemaria.com.br/evento/missa-tridentina-em-manaus-dom-10-12-capela-n-sra-de-loreto/
LOCATION:Capela Nossa Senhora de Loreto\, Rua Juruá 2000\, S. Lázaro\, Manaus\, Amazonas\, 69074-260\, Brasil
CATEGORIES:Missa Tridentina em Manaus
ATTACH;FMTTYPE=image/jpeg:https://salvemaria.com.br/wp-content/uploads/2017/12/secondadvent2017.jpg
END:VEVENT
BEGIN:VEVENT
DTSTART;TZID=America/Manaus:20171208T090000
DTEND;TZID=America/Manaus:20171208T090000
DTSTAMP:20260419T133808
CREATED:20171128T184825Z
LAST-MODIFIED:20171204T150901Z
UID:1153-1512723600-1512723600@salvemaria.com.br
SUMMARY:Missa Tridentina em Manaus (sex\, 08/12) - Capela N. Sra. de Loreto
DESCRIPTION:Missa da Imaculada Conceição de Nossa Senhora\, padroeira do Amazonas e de nossa Congregação Mariana \n1ª Classe \nMissa Rezada
URL:https://salvemaria.com.br/evento/missa-tridentina-em-manaus-capela-n-senhora-de-loreto-3/
LOCATION:Capela Nossa Senhora de Loreto\, Rua Juruá 2000\, S. Lázaro\, Manaus\, Amazonas\, 69074-260\, Brasil
CATEGORIES:Missa Tridentina em Manaus
ATTACH;FMTTYPE=image/jpeg:https://salvemaria.com.br/wp-content/uploads/2017/11/imaculadaconceicaomissa.jpg
END:VEVENT
BEGIN:VEVENT
DTSTART;TZID=America/Manaus:20171203T170000
DTEND;TZID=America/Manaus:20171203T183000
DTSTAMP:20260419T133808
CREATED:20171103T165653Z
LAST-MODIFIED:20171128T184420Z
UID:1032-1512320400-1512325800@salvemaria.com.br
SUMMARY:Dies Irae: O Fim do Mundo e o Juízo Final
DESCRIPTION:
URL:https://salvemaria.com.br/evento/dies-irae-o-fim-do-mundo-e-o-juizo-final/
LOCATION:Sede da Congregação Mariana\, Av. Djalma Batista\, n° 539\, apto 101\, Manaus\, Amazonas\, Brasil
CATEGORIES:Reunião
ATTACH;FMTTYPE=image/jpeg:https://salvemaria.com.br/wp-content/uploads/2017/11/dies-irae.jpeg
END:VEVENT
BEGIN:VEVENT
DTSTART;TZID=America/Manaus:20171203T103000
DTEND;TZID=America/Manaus:20171203T103000
DTSTAMP:20260419T133808
CREATED:20171128T182752Z
LAST-MODIFIED:20171201T042330Z
UID:1134-1512297000-1512297000@salvemaria.com.br
SUMMARY:Missa Tridentina em Manaus (dom\, 03/12) – Capela N. Sra. de Loreto
DESCRIPTION:1º Domingo do Advento \n1ª Classe \nMissa Rezada
URL:https://salvemaria.com.br/evento/missa-tridentina-em-manaus-igreja-santo-expedito/
LOCATION:Capela Nossa Senhora de Loreto\, Rua Juruá 2000\, S. Lázaro\, Manaus\, Amazonas\, 69074-260\, Brasil
CATEGORIES:Missa Tridentina em Manaus
END:VEVENT
BEGIN:VEVENT
DTSTART;TZID=America/Manaus:20171130T193000
DTEND;TZID=America/Manaus:20171130T193000
DTSTAMP:20260419T133808
CREATED:20171128T182434Z
LAST-MODIFIED:20171201T042534Z
UID:1129-1512070200-1512070200@salvemaria.com.br
SUMMARY:Missa Tridentina em Manaus (qui\, 30/11) - Capela N. Sra. de Loreto
DESCRIPTION:Missa de S. André\, Apóstolo \n2ª Classe \nMissa Rezada
URL:https://salvemaria.com.br/evento/missa-tridentina-em-manaus-capela-n-senhora-de-loreto/
LOCATION:Capela Nossa Senhora de Loreto\, Rua Juruá 2000\, S. Lázaro\, Manaus\, Amazonas\, 69074-260\, Brasil
CATEGORIES:Missa Tridentina em Manaus
END:VEVENT
BEGIN:VEVENT
DTSTART;TZID=America/Manaus:20171126T170000
DTEND;TZID=America/Manaus:20171126T183000
DTSTAMP:20260419T133808
CREATED:20171121T124504Z
LAST-MODIFIED:20171126T145312Z
UID:1054-1511715600-1511721000@salvemaria.com.br
SUMMARY:A Revolução Igualitária - O Socialismo e o Comunismo em face da Igreja
DESCRIPTION:
URL:https://salvemaria.com.br/evento/revolucao-igualitaria-o-socialismo-e-o-comunismo-em-face-da-igreja/
LOCATION:Amazonas
CATEGORIES:Reunião
ATTACH;FMTTYPE=image/jpeg:https://salvemaria.com.br/wp-content/uploads/2017/11/comunism.jpg
END:VEVENT
BEGIN:VEVENT
DTSTART;TZID=America/Manaus:20171119T170000
DTEND;TZID=America/Manaus:20171119T183000
DTSTAMP:20260419T133808
CREATED:20171031T021022Z
LAST-MODIFIED:20171117T142243Z
UID:940-1511110800-1511116200@salvemaria.com.br
SUMMARY:A Esposa de Cristo - A Santa Igreja Católica: Mãe e Mestra da Verdade
DESCRIPTION:
URL:https://salvemaria.com.br/evento/esposa-de-cristo-santa-igreja-catolica-mae-e-mestra-da-verdade/
LOCATION:Sede da Congregação Mariana\, Av. Djalma Batista\, n° 539\, apto 101\, Manaus\, Amazonas\, Brasil
CATEGORIES:Reunião
ATTACH;FMTTYPE=image/jpeg:https://salvemaria.com.br/wp-content/uploads/2017/10/WhatsApp-Image-2017-11-16-at-13.11.58-1.jpeg
END:VEVENT
BEGIN:VEVENT
DTSTART;TZID=America/Manaus:20171112T170000
DTEND;TZID=America/Manaus:20171112T183000
DTSTAMP:20260419T133808
CREATED:20171031T015903Z
LAST-MODIFIED:20171106T212053Z
UID:933-1510506000-1510511400@salvemaria.com.br
SUMMARY:Subirei ao Altar de Deus - A Santa Missa Tridentina Parte por Parte
DESCRIPTION:
URL:https://salvemaria.com.br/evento/subirei-ao-altar-de-deus-santa-missa-tridentina-parte-por-parte/
LOCATION:Sede da Congregação Mariana\, Av. Djalma Batista\, n° 539\, apto 101\, Manaus\, Amazonas\, Brasil
CATEGORIES:Reunião
ATTACH;FMTTYPE=image/jpeg:https://salvemaria.com.br/wp-content/uploads/2017/10/santa-missa.jpeg
END:VEVENT
BEGIN:VEVENT
DTSTART;TZID=America/Manaus:20171105T170000
DTEND;TZID=America/Manaus:20171105T183000
DTSTAMP:20260419T133808
CREATED:20171031T014845Z
LAST-MODIFIED:20171031T140510Z
UID:930-1509901200-1509906600@salvemaria.com.br
SUMMARY:Os Novíssimos - Morte. Juízo. Inferno. Paraíso.
DESCRIPTION:
URL:https://salvemaria.com.br/evento/os-novissimos-morte-juizo-inferno-paraiso/
LOCATION:Sede da Congregação Mariana\, Av. Djalma Batista\, n° 539\, apto 101\, Manaus\, Amazonas\, Brasil
CATEGORIES:Reunião
ATTACH;FMTTYPE=image/jpeg:https://salvemaria.com.br/wp-content/uploads/2017/10/novissimos.jpeg
END:VEVENT
BEGIN:VEVENT
DTSTART;TZID=America/Manaus:20171029T170000
DTEND;TZID=America/Manaus:20171029T170000
DTSTAMP:20260419T133808
CREATED:20170925T153518Z
LAST-MODIFIED:20171024T193323Z
UID:755-1509296400-1509296400@salvemaria.com.br
SUMMARY:Lutero e o Protestantismo - A Revolta Protestante\, seus princípios e seu fundador
DESCRIPTION:
URL:https://salvemaria.com.br/evento/lutero-e-o-protestantismo-revolta-protestante-seus-principios-e-seu-fundador/
LOCATION:Sede da Congregação Mariana\, Av. Djalma Batista\, n° 539\, apto 101\, Manaus\, Amazonas\, Brasil
CATEGORIES:Reunião
ATTACH;FMTTYPE=image/jpeg:https://salvemaria.com.br/wp-content/uploads/2017/09/lutero-e-o-protestantismo.jpeg
END:VEVENT
BEGIN:VEVENT
DTSTART;TZID=America/Manaus:20171022T170000
DTEND;TZID=America/Manaus:20171022T183000
DTSTAMP:20260419T133808
CREATED:20171009T203633Z
LAST-MODIFIED:20180101T211625Z
UID:857-1508691600-1508697000@salvemaria.com.br
SUMMARY:A Missa Parte por Parte e como a assistir com frutos
DESCRIPTION:
URL:https://salvemaria.com.br/evento/santa-missa-tridentina-parte-iii-missa-parte-por-parte-e-como-assistir-com-frutos/
LOCATION:Amazonas
CATEGORIES:Reunião
ATTACH;FMTTYPE=image/png:https://salvemaria.com.br/wp-content/uploads/2017/10/aula-iii.png
END:VEVENT
BEGIN:VEVENT
DTSTART;TZID=America/Manaus:20171015T170000
DTEND;TZID=America/Manaus:20171015T183000
DTSTAMP:20260419T133808
CREATED:20171009T203527Z
LAST-MODIFIED:20180101T211515Z
UID:856-1508086800-1508092200@salvemaria.com.br
SUMMARY:Crise da Fé e da Liturgia - O Movimento Litúrgico e a Reforma
DESCRIPTION:
URL:https://salvemaria.com.br/evento/santa-missa-tridentina-parte-ii-crise-da-fe-e-da-liturgia-o-movimento-liturgico-e-reforma/
LOCATION:Amazonas
CATEGORIES:Reunião
ATTACH;FMTTYPE=image/png:https://salvemaria.com.br/wp-content/uploads/2017/10/aula-ii.png
END:VEVENT
BEGIN:VEVENT
DTSTART;TZID=America/Manaus:20171008T170000
DTEND;TZID=America/Manaus:20171008T183000
DTSTAMP:20260419T133808
CREATED:20170925T152400Z
LAST-MODIFIED:20180101T211606Z
UID:747-1507482000-1507487400@salvemaria.com.br
SUMMARY:A Liturgia Primitiva e medieval
DESCRIPTION:
URL:https://salvemaria.com.br/evento/santa-missa-tridentina-o-ultimo-rochedo-no-meio-da-tempestade/
LOCATION:Sede da Congregação Mariana\, Av. Djalma Batista\, n° 539\, apto 101\, Manaus\, Amazonas\, Brasil
CATEGORIES:Reunião
ATTACH;FMTTYPE=image/jpeg:https://salvemaria.com.br/wp-content/uploads/2017/09/missa-tridentina-1.jpeg
END:VEVENT
BEGIN:VEVENT
DTSTART;TZID=America/Manaus:20171001T170000
DTEND;TZID=America/Manaus:20171001T170000
DTSTAMP:20260419T133808
CREATED:20170925T150141Z
LAST-MODIFIED:20171003T182628Z
UID:738-1506877200-1506877200@salvemaria.com.br
SUMMARY:A Excelência do Sacratíssimo Rosário
DESCRIPTION:
URL:https://salvemaria.com.br/evento/excelencia-do-sacratissimo-rosario/
LOCATION:Sede da Congregação Mariana\, Av. Djalma Batista\, n° 539\, apto 101\, Manaus\, Amazonas\, Brasil
CATEGORIES:Reunião
ATTACH;FMTTYPE=image/jpeg:https://salvemaria.com.br/wp-content/uploads/2017/09/saacratissimo-rosario.jpeg
END:VEVENT
BEGIN:VEVENT
DTSTART;TZID=America/Manaus:20170924T170000
DTEND;TZID=America/Manaus:20170924T183000
DTSTAMP:20260419T133808
CREATED:20170829T221853Z
LAST-MODIFIED:20170922T151433Z
UID:523-1506272400-1506277800@salvemaria.com.br
SUMMARY:Aborto: O Holocausto Moderno
DESCRIPTION:
URL:https://salvemaria.com.br/evento/aborto-o-holocausto-moderno/
LOCATION:Amazonas
CATEGORIES:Reunião
ATTACH;FMTTYPE=image/jpeg:https://salvemaria.com.br/wp-content/uploads/2017/08/aborto.jpeg
END:VEVENT
BEGIN:VEVENT
DTSTART;TZID=America/Manaus:20170917T170000
DTEND;TZID=America/Manaus:20170917T183000
DTSTAMP:20260419T133808
CREATED:20170829T221022Z
LAST-MODIFIED:20180101T211436Z
UID:519-1505667600-1505673000@salvemaria.com.br
SUMMARY:A Autoridade das Escrituras: Uma apologia católica das Sagradas Escrituras
DESCRIPTION:Perguntas sobre o tema podem ser feitas pelo seguinte link: \nhttps://goo.gl/forms/pdhPGLig3ujakTLC2
URL:https://salvemaria.com.br/evento/autoridade-das-escrituras-uma-apologia-catolica-das-sagradas-escrituras/
LOCATION:Amazonas
CATEGORIES:Reunião
END:VEVENT
END:VCALENDAR